{
 "currentVersion": 10.91,
 "serviceDescription": "2019 Ortho Mosaic cache",
 "mapName": "Layers",
 "description": "",
 "copyrightText": "",
 "supportsDynamicLayers": true,
 "layers": [
  {
   "id": 0,
   "name": "Imagery.SDE.Ortho_2019_Mosaic",
   "parentLayerId": -1,
   "defaultVisibility": true,
   "subLayerIds": [
    1,
    2,
    3
   ],
   "minScale": 0,
   "maxScale": 0,
   "type": "Mosaic Layer"
  },
  {
   "id": 1,
   "name": "Boundary",
   "parentLayerId": 0,
   "defaultVisibility": false,
   "subLayerIds": null,
   "minScale": 0,
   "maxScale": 0,
   "type": "Feature Layer",
   "geometryType": "esriGeometryPolygon"
  },
  {
   "id": 2,
   "name": "Footprint",
   "parentLayerId": 0,
   "defaultVisibility": false,
   "subLayerIds": null,
   "minScale": 0,
   "maxScale": 0,
   "type": "Feature Layer",
   "geometryType": "esriGeometryPolygon"
  },
  {
   "id": 3,
   "name": "Image",
   "parentLayerId": 0,
   "defaultVisibility": true,
   "subLayerIds": null,
   "minScale": 0,
   "maxScale": 0,
   "type": "Raster Layer"
  }
 ],
 "tables": [],
 "spatialReference": {
  "wkid": 26917,
  "latestWkid": 26917
 },
 "singleFusedMapCache": true,
 "tileInfo": {
  "rows": 512,
  "cols": 512,
  "dpi": 96,
  "format": "MIXED",
  "compressionQuality": 75,
  "origin": {
   "x": -9497963.942936342,
   "y": 9997963.942936342
  },
  "spatialReference": {
   "wkid": 26917,
   "latestWkid": 26917
  },
  "lods": [
   {
    "level": 0,
    "resolution": 39054.62476134461,
    "scale": 1.4760773537799716E8
   },
   {
    "level": 1,
    "resolution": 19527.312380672305,
    "scale": 7.380386768899858E7
   },
   {
    "level": 2,
    "resolution": 9763.656190336153,
    "scale": 3.690193384449929E7
   },
   {
    "level": 3,
    "resolution": 4881.828095168076,
    "scale": 1.8450966922249645E7
   },
   {
    "level": 4,
    "resolution": 2440.914047584038,
    "scale": 9225483.461124822
   },
   {
    "level": 5,
    "resolution": 1220.457023792019,
    "scale": 4612741.730562411
   },
   {
    "level": 6,
    "resolution": 610.2285118960095,
    "scale": 2306370.8652812056
   },
   {
    "level": 7,
    "resolution": 305.11425594800477,
    "scale": 1153185.4326406028
   },
   {
    "level": 8,
    "resolution": 152.55712797400238,
    "scale": 576592.7163203014
   },
   {
    "level": 9,
    "resolution": 76.27856398700119,
    "scale": 288296.3581601507
   },
   {
    "level": 10,
    "resolution": 38.139281993500596,
    "scale": 144148.17908007535
   },
   {
    "level": 11,
    "resolution": 19.069640996750298,
    "scale": 72074.08954003768
   },
   {
    "level": 12,
    "resolution": 9.534820498375149,
    "scale": 36037.04477001884
   },
   {
    "level": 13,
    "resolution": 4.7674102491875745,
    "scale": 18018.52238500942
   },
   {
    "level": 14,
    "resolution": 2.3837051245937873,
    "scale": 9009.26119250471
   },
   {
    "level": 15,
    "resolution": 1.1918525622968936,
    "scale": 4504.630596252355
   },
   {
    "level": 16,
    "resolution": 0.5959262811484468,
    "scale": 2252.3152981261774
   },
   {
    "level": 17,
    "resolution": 0.2979631405742234,
    "scale": 1126.1576490630887
   },
   {
    "level": 18,
    "resolution": 0.1489815702871117,
    "scale": 563.0788245315443
   },
   {
    "level": 19,
    "resolution": 0.07449078514355585,
    "scale": 281.53941226577217
   },
   {
    "level": 20,
    "resolution": 0.037245392571777926,
    "scale": 140.76970613288609
   },
   {
    "level": 21,
    "resolution": 0.018622696285888963,
    "scale": 70.38485306644304
   },
   {
    "level": 22,
    "resolution": 0.009311348142944481,
    "scale": 35.19242653322152
   },
   {
    "level": 23,
    "resolution": 0.004655674071472241,
    "scale": 17.59621326661076
   }
  ]
 },
 "initialExtent": {
  "xmin": 637348.9,
  "ymin": 4758211.079324056,
  "xmax": 651651.1,
  "ymax": 4772683.882107356,
  "spatialReference": {
   "wkid": 26917,
   "latestWkid": 26917
  }
 },
 "fullExtent": {
  "xmin": 637999,
  "ymin": 4751998.975000001,
  "xmax": 651001,
  "ymax": 4769001.025,
  "spatialReference": {
   "wkid": 26917,
   "latestWkid": 26917
  }
 },
 "minScale": 288296.3581601507,
 "maxScale": 140.76970613288609,
 "units": "esriMeters",
 "supportedImageFormatTypes": "PNG32,PNG24,PNG,JPG,DIB,TIFF,EMF,PS,PDF,GIF,SVG,SVGZ,BMP",
 "documentInfo": {
  "Title": "",
  "Author": "",
  "Comments": "",
  "Subject": "",
  "Category": "",
  "AntialiasingMode": "None",
  "TextAntialiasingMode": "Force",
  "Keywords": "ortho,mosaic,imagery,aerial,2019"
 },
 "capabilities": "Map,Query,Data",
 "supportedQueryFormats": "JSON, geoJSON",
 "exportTilesAllowed": false,
 "referenceScale": 0,
 "supportsDatumTransformation": true,
 "maxRecordCount": 1000,
 "maxImageHeight": 4096,
 "maxImageWidth": 4096,
 "supportedExtensions": "",
 "resampling": true,
 "serviceItemId": "2a7074255d194f0fb0c6f13dfaf844e2"
}
