View In:
ArcGIS JavaScript
ArcGIS Online Map Viewer
ArcGIS Earth
ArcMap
ArcGIS Pro
View Footprint In:
ArcGIS Online Map Viewer
Service Description: 2006 Ortho Mosaic cache
Map Name: Layers
Legend
All Layers and Tables
Dynamic Legend
Dynamic All Layers
Layers:
Description:
Service Item Id: 80465153b6694e14abdb52b7e6884918
Copyright Text:
Spatial Reference:
26917
(26917)
Single Fused Map Cache: true
Tile Info:
- Height: 512
- Width: 512
- DPI: 96
-
Levels of Detail: 24
-
Level ID: 0
[ Start Tile, End Tile ]
- Resolution: 39054.62476134461
- Scale: 1.4760773537799716E8
-
Level ID: 1
[ Start Tile, End Tile ]
- Resolution: 19527.312380672305
- Scale: 7.380386768899858E7
-
Level ID: 2
[ Start Tile, End Tile ]
- Resolution: 9763.656190336153
- Scale: 3.690193384449929E7
-
Level ID: 3
[ Start Tile, End Tile ]
- Resolution: 4881.828095168076
- Scale: 1.8450966922249645E7
-
Level ID: 4
[ Start Tile, End Tile ]
- Resolution: 2440.914047584038
- Scale: 9225483.461124822
-
Level ID: 5
[ Start Tile, End Tile ]
- Resolution: 1220.457023792019
- Scale: 4612741.730562411
-
Level ID: 6
[ Start Tile, End Tile ]
- Resolution: 610.2285118960095
- Scale: 2306370.8652812056
-
Level ID: 7
[ Start Tile, End Tile ]
- Resolution: 305.11425594800477
- Scale: 1153185.4326406028
-
Level ID: 8
[ Start Tile, End Tile ]
- Resolution: 152.55712797400238
- Scale: 576592.7163203014
-
Level ID: 9
[ Start Tile, End Tile ]
- Resolution: 76.27856398700119
- Scale: 288296.3581601507
-
Level ID: 10
[ Start Tile, End Tile ]
- Resolution: 38.139281993500596
- Scale: 144148.17908007535
-
Level ID: 11
[ Start Tile, End Tile ]
- Resolution: 19.069640996750298
- Scale: 72074.08954003768
-
Level ID: 12
[ Start Tile, End Tile ]
- Resolution: 9.534820498375149
- Scale: 36037.04477001884
-
Level ID: 13
[ Start Tile, End Tile ]
- Resolution: 4.7674102491875745
- Scale: 18018.52238500942
-
Level ID: 14
[ Start Tile, End Tile ]
- Resolution: 2.3837051245937873
- Scale: 9009.26119250471
-
Level ID: 15
[ Start Tile, End Tile ]
- Resolution: 1.1918525622968936
- Scale: 4504.630596252355
-
Level ID: 16
[ Start Tile, End Tile ]
- Resolution: 0.5959262811484468
- Scale: 2252.3152981261774
-
Level ID: 17
[ Start Tile, End Tile ]
- Resolution: 0.2979631405742234
- Scale: 1126.1576490630887
-
Level ID: 18
[ Start Tile, End Tile ]
- Resolution: 0.1489815702871117
- Scale: 563.0788245315443
-
Level ID: 19
[ Start Tile, End Tile ]
- Resolution: 0.07449078514355585
- Scale: 281.53941226577217
-
Level ID: 20
[ Start Tile, End Tile ]
- Resolution: 0.037245392571777926
- Scale: 140.76970613288609
-
Level ID: 21
[ Start Tile, End Tile ]
- Resolution: 0.018622696285888963
- Scale: 70.38485306644304
-
Level ID: 22
[ Start Tile, End Tile ]
- Resolution: 0.009311348142944481
- Scale: 35.19242653322152
-
Level ID: 23
[ Start Tile, End Tile ]
- Resolution: 0.004655674071472241
- Scale: 17.59621326661076
- Format: MIXED
- Compression Quality: 75.0
- Origin: X: -9497963.942936342
Y: 9997963.942936342
- Spatial Reference: 26917
(26917)
Storage Info:
- Storage Format: esriMapCacheStorageModeCompactV2
- Packet Size: 128
Initial Extent:
XMin: 630519.4143403446
YMin: 4759947.84416826
XMax: 658480.5856596554
YMax: 4772051.099999999
Spatial Reference: 26917
(26917)
Full Extent:
XMin: 635999
YMin: 4749999
XMax: 653001
YMax: 4771001
Spatial Reference: 26917
(26917)
Units: esriMeters
Supported Image Format Types: PNG32,PNG24,PNG,JPG,DIB,TIFF,EMF,PS,PDF,GIF,SVG,SVGZ,BMP
Document Info:
Title:
Author:
Comments: 2010 SWOOP Ortho Mosaic cache
Subject: 2010 SWOOP Ortho Mosaic cache
Category:
Keywords: imagery,ortho,mosaic,aerial,2006
AntialiasingMode: None
TextAntialiasingMode: Force
Supports Dynamic Layers: true
MaxRecordCount: 1000
MaxImageHeight: 4096
MaxImageWidth: 4096
Supported Query Formats: JSON, geoJSON, PBF
Supports Query Data Elements: true
Min Scale: 288296.3581601507
Max Scale: 281.53941226577217
Supports Datum Transformation: true
Child Resources:
Info
Dynamic Layer
Supported Operations:
Export Map
Identify
QueryLegends
QueryDomains
Find
Return Updates